BEGIN:VCALENDAR
VERSION:2.0
PRODID:-//hacksw/handcal//NONSGML v1.0//EN
BEGIN:VEVENT
SUMMARY:Challenge de Ludres 2026
UID:dc4d4e8c-9da9-4c81-a9c6-dd79556b8279
DTSTART:20260503T060000Z
DTEND:20260503T163000Z
LOCATION:Localisation salle marie marvingt 125 rue marie marvingt 54710 Ludres
CATEGORIES:Sportif
STATUS:
DESCRIPTION:<p>CONTROLE DES MINIMES ( M ET F ) 08H00 a 08H30     
                  DEBUT DES RENCONTRES :
 8H45<br>
  <br>
 CONTROLE DES MINI POUSSINS (NES) 09H45 a 10H15   
               DEBUT DES RENCONTRES : 10H30<br>
  <br>
 CONTROLE
 DES POUSSINS ( NES ) : 13H30 -14H00                     
    DEBUT DES RENCONTRES : 14H15<br>
  <br>
 CONTROLE DES BENJAMINS
 (NES ) : 15H30-16H00                         DEBUT DES
 RENCONTRES : 16H15<br>
  </p>
 
 <p>Remise des recompenses a la fin des
 rencontres de chaque categorie</p>
 
 <p>Temps de combat
 : </p>
 
 <p>Mini-poussins : 1 minute</p>
 
 <p>Poussins : 1 minute
 30</p>
 
 <p>Benjamins : 2 minutes</p>
 
 <p>Minimes : 3 minutes</p>
URL;VALUE=URI:https://www.judoclubheillecourt.fr/evenements/2026/05/03/challenge-de-ludres-2026-2435971
END:VEVENT
END:VCALENDAR
