BEGIN:VCALENDAR
VERSION:2.0
PRODID:-//hacksw/handcal//NONSGML v1.0//EN
BEGIN:VEVENT
SUMMARY:Petits Kims / Petits Tigres 3eme tour
UID:86fbe070-e34c-402b-ba9d-3af41c9e3d15
DTSTART:20260502T063000Z
DTEND:20260502T110000Z
LOCATION:Localisation 125 Rue Marie Marvingt, 54710 Ludres  Ludres
CATEGORIES:Sportif
STATUS:
DESCRIPTION:<p class="x"><span style="font-family:Calibri,
 sans-serif;">Notre secteur se retrouvera pour <b>notre 3eme tour  a
 LUDRES le 02 mai 2026 Gymnase Rue Marie MARVINGT 54710 LUDRES
 </b></span></p>
 
 <p class="x"><b> </b> </p>
 
 <ul>
 	<li
 class="x"><span style="font-family:Calibri, sans-serif;">A  9H00
  </span><span style="font-family:Calibri, sans-serif;">pour les
 petits tigres ( enfants nes en 2017-2016)</span></li>
 </ul>
 
 <p
 class="x"> </p>
 
 <ul>
 	<li class="x"><span
 style="font-family:Calibri, sans-serif;">A  11H00 </span><span
 style="font-family:Calibri, sans-serif;">pour les petits Kims  (
 enfants nes en 2019-2018 ) </span></li>
 </ul>
 
 <p
 class="x"> </p>
 
 <p class="x"><span style="font-family:Calibri,
 sans-serif;">L’animation se deroulera comme suit : </span></p>
 
 <p
 class="x"> </p>
 
 <ul>
 	<li class="x"><i><span
 style="font-family:Calibri, sans-serif;">2 phases
 techniques</span></i><span style="font-family:Calibri, sans-serif;">
 ( nage-komi  en alternance TORI/UKE ) par binome de  club  notees
 sur 20 pts    Tigres 1M30 / Kims 1M </span></li>
 </ul>
 
 <p
 class="x"> </p>
 
 <ul>
 	<li class="x"><i><span
 style="font-family:Calibri, sans-serif;">2
 oppositions</span></i><span style="font-family:Calibri, sans-serif;">
 ( objectif  2 ippons ) notees sur 20 pts   Tigres 1M30 / Kims 1M
 </span></li>
 </ul>
 
 <p class="x"> </p>
 
 <p class="x"><span
 style="font-family:Calibri, sans-serif;">SOIT UN TOTAL de 80 points
 </span></p>
 
 <p class="x"> </p>
 
 <p class="x"><u><span
 style="font-family:Calibri, sans-serif;">Un gouter sera offert a
 chaque participant </span></u></p>
URL;VALUE=URI:https://www.judoclubheillecourt.fr/evenements/2026/05/02/petits-kims-petits-tigres-3eme-tour-2364449
END:VEVENT
END:VCALENDAR
