BEGIN:VCALENDAR
VERSION:2.0
PRODID:-//hacksw/handcal//NONSGML v1.0//EN
BEGIN:VEVENT
SUMMARY:Rencontre jeunes - tour 3
UID:a42cdd74-a024-4e3a-ac40-334ff407b5bc
DTSTART:20260321T120000Z
DTEND:20260321T163000Z
LOCATION:Localisation 1 rue lucien galtier 54410 laneuveville-devant-nancy
CATEGORIES:Sportif
STATUS:
DESCRIPTION:<p>Bonjour,</p>
 
 <p> </p>
 
 <p>Le troisieme tour des
 rencontres jeunes se deroulera a Laneuveville-devant-Nancy au 1 rue
 Lucien Galtier (derriere la piscine).</p>
 
 <p> </p>
 
 <p>13h:
 benjamins minimes <br>
 14h30 : poussins <br>
 16h: mini poussins</p>
URL;VALUE=URI:https://www.judoclubheillecourt.fr/evenements/2026/03/21/rencontre-jeunes-tour-3-2423029
END:VEVENT
END:VCALENDAR
